BEGIN:VCALENDAR
VERSION:2.0
PRODID:-//Oikonomotexniki - ECPv6.7.0//NONSGML v1.0//EN
CALSCALE:GREGORIAN
METHOD:PUBLISH
X-WR-CALNAME:Oikonomotexniki
X-ORIGINAL-URL:https://mfgroupoikonomotexniki.gr
X-WR-CALDESC:Events for Oikonomotexniki
REFRESH-INTERVAL;VALUE=DURATION:PT1H
X-Robots-Tag:noindex
X-PUBLISHED-TTL:PT1H
BEGIN:VTIMEZONE
TZID:Europe/Athens
BEGIN:DAYLIGHT
TZOFFSETFROM:+0200
TZOFFSETTO:+0300
TZNAME:EEST
DTSTART:20250330T010000
END:DAYLIGHT
BEGIN:STANDARD
TZOFFSETFROM:+0300
TZOFFSETTO:+0200
TZNAME:EET
DTSTART:20251026T010000
END:STANDARD
END:VTIMEZONE
BEGIN:VEVENT
DTSTART;TZID=Europe/Athens:20250115T100000
DTEND;TZID=Europe/Athens:20250115T150000
DTSTAMP:20260422T164011
CREATED:20241210T081514Z
LAST-MODIFIED:20241220T102028Z
UID:14376-1736935200-1736953200@mfgroupoikonomotexniki.gr
SUMMARY:ΕΙΔΙΚΑ ΘΕΜΑΤΑ ΣΤΑΣΙΜΟΥ ΕΜΠΟΡΙΟΥ
DESCRIPTION:ΝΕΟ  ΕΙΔΙΚΟ ON – LINE ΣΕΜΙΝΑΡΙΟ ΓΙΑ ΤΟ ΥΠΑΙΘΡΙΟ ΕΜΠΟΡΙΟ \nΕΙΔΙΚΑ ΘΕΜΑΤΑ ΣΤΑΣΙΜΟΥ ΕΜΠΟΡΙΟΥ \nΠερίοδος υλοποίησης \nΤετάρτη        15    Ιανουαρίου    2025 \n10:00 – 15:00 \n  \nΕισηγητής \nΣΤΡΑΤΟΣ ΒΙΛΗΓΕΝΝΗΣ \nΠτυχιούχος Νομικής & Διοίκησης Επιχειρήσεων. \nΚάτοχος μεταπτυχιακού τίτλου στην εκπαίδευση ενηλίκων (Ε.Α.Π.). \nΠροϊστάμενος Τμήματος Αδειοδοτήσεων & Ρύθμισης Εμπορικών  Δραστηριοτήτων Δήμου. \nΠιστοποιημένος εισηγητής ΟΤΑ με σημαντική διδακτική εμπειρία σε σεμινάρια υπαλλήλων ΟΤΑ \n  \nΣε ποιούς απευθύνεται \nΤο σεμινάριο απευθύνεται σε Υπευθύνους και υπαλλήλους αρμοδίων υπηρεσιών  \nτων Περιφερειών και των Δήμων.  \nΣκοπός \nΣκοπός του σεμιναρίου είναι ν’ αναλύσει τα ειδικά θέματα του στάσιμου εμπορίου με όλες τις τροποποιήσεις μέχρι σήμερα και ν΄απαντήσει σε όλα τα ειδικά θέματα των συμμετεχόντων. \n  \nΣΥΝΟΠΤΙΚΗ ΘΕΜΑΤΟΛΟΓΙΑ ΤΟΥ ΠΡΟΓΡΑΜΜΑΤΟΣ \nΜεταξύ άλλων θα συζητηθούν θέματα όπως : \n\nΚαθορισμός ελαχίστων αποστάσεων στάσιμου εμπορίου\n«Κινητές Καντίνες» : μεταξύ υπαίθριου εμπορίου και επιχείρησης εστίασης\nΚανονισμοί και Κανονιστικές Πράξεις στο Υπαίθριο Εμπόριο\nΠλαίσιο και διαδικασία Κυρώσεων στο Υπαίθριο Εμπόριο\nΕρωτήσεις – Απαντήσεις στα ειδικά θέματα των συμμετεχόντων.\n\nΣημείωση: Οι συμμετέχοντες μπορούν να μας αποστείλουν τα ειδικά θέματα που αντιμετωπίζουν \nστην υπηρεσία τους \n  \nΓια τη συμμετοχή σας επικοινωνήστε μαζί μας στο e-mail sales@oikonomotexniki.gr ή στο τηλ: 210 8828972
URL:https://mfgroupoikonomotexniki.gr/event/%ce%b5%ce%b9%ce%b4%ce%b9%ce%ba%ce%b1-%ce%b8%ce%b5%ce%bc%ce%b1%cf%84%ce%b1-%cf%83%cf%84%ce%b1%cf%83%ce%b9%ce%bc%ce%bf%cf%85-%ce%b5%ce%bc%cf%80%ce%bf%cf%81%ce%b9%ce%bf%cf%85/
CATEGORIES:Οικονομική Υπηρεσία,Σεμινάρια Δημοσίου Τομέα
ATTACH;FMTTYPE=image/jpeg:https://mfgroupoikonomotexniki.gr/wp-content/uploads/2024/12/laiki.jpg
END:VEVENT
END:VCALENDAR