BEGIN:VCALENDAR
VERSION:2.0
PRODID:-//Oikonomotexniki - ECPv6.7.0//NONSGML v1.0//EN
CALSCALE:GREGORIAN
METHOD:PUBLISH
X-WR-CALNAME:Oikonomotexniki
X-ORIGINAL-URL:https://mfgroupoikonomotexniki.gr
X-WR-CALDESC:Events for Oikonomotexniki
REFRESH-INTERVAL;VALUE=DURATION:PT1H
X-Robots-Tag:noindex
X-PUBLISHED-TTL:PT1H
BEGIN:VTIMEZONE
TZID:Europe/Athens
BEGIN:DAYLIGHT
TZOFFSETFROM:+0200
TZOFFSETTO:+0300
TZNAME:EEST
DTSTART:20250330T010000
END:DAYLIGHT
BEGIN:STANDARD
TZOFFSETFROM:+0300
TZOFFSETTO:+0200
TZNAME:EET
DTSTART:20251026T010000
END:STANDARD
END:VTIMEZONE
BEGIN:VEVENT
DTSTART;TZID=Europe/Athens:20250123T160000
DTEND;TZID=Europe/Athens:20250124T200000
DTSTAMP:20260422T164253
CREATED:20241210T082303Z
LAST-MODIFIED:20241219T120352Z
UID:14352-1737648000-1737748800@mfgroupoikonomotexniki.gr
SUMMARY:ΦΟΡΟΛΟΓΙΚΟΣ ΕΛΕΓΧΟΣ
DESCRIPTION:ΝΕΟ ΕΙΔΙΚΟ ON – LINE ΣΕΜΙΝΑΡΙΟ \nΦΟΡΟΛΟΓΙΚΟΣ ΕΛΕΓΧΟΣ \n«ΕΜΜΕΣΕΣ ΤΕΧΝΙΚΕΣ ΕΛΕΓΧΟΥ» ΣΤΗΝ ΠΡΑΞΗ ΣΥΜΦΩΝΑ ΜΕ ΤΙΣ ΔΙΑΤΑΞΕΙΣ ΤΟΥ ΑΡΘΡΟΥ 28 του ν. 4172/2013  \nΠερίοδος υλοποίησης \nΠέμπτη 23 Ιανουαρίου 2025\nΠαρασκευή 24 Ιανουαρίου 2025\n16:00-20:00 \n  \nΣε ποιους απευθύνεται \nΤο σεμινάριο απευθύνεται σε στελέχη οικονομικών διευθύνσεων και λογιστηρίων\, Λογιστές\, Οικονομολόγους και Φοροτεχνικούς\, καθώς και σε Δικηγόρους με ειδίκευση στο φορολογικό δίκαιο. \n  \nΟ εισηγήτής μας \nΙωάννης Τριανταφύλλης \nΕλεγκτής ΣΔΟΕ της Α.Α.Δ.Ε με 8ετή εμπειρία σε φορολογικούς ελέγχους φυσικών προσώπων και νομικών οντοτήτων και εξειδίκευση στον έλεγχο με χρήση των έμμεσων τεχνικών ελέγχου. Κάτοχος δύο μεταπτυχιακών προγραμμάτων (MBA Ο.Π.Α και MSc in Accounting and Finance – University of Manchester). \n  \nΘΕΜΑΤΟΛΟΓΙΑ ΤΟΥ ΠΡΟΓΡΑΜΜΑΤΟΣ \n\nΠεδίο εφαρμογής έμμεσων τεχνικών ελέγχου\n\nΥπαγόμενοι και επιλογή υποθέσεων προς έλεγχο.\nΕπιλογή τεχνικής ελέγχου και ενέργειες της φορολογικής διοίκησης.\nΑνάλυση των προϋποθέσεων εφαρμογής έμμεσων τεχνικών ελέγχου.\nΟδηγίες της εφαρμογής των έμμεσων τεχνικών βάσει εγκυκλίων και αποφάσεων της Α.Α.Δ.Ε (τρόπος προσδιορισμού του καθαρού φορολογητέου εισοδήματος\, διαθέσιμα στοιχεία).\n\n\n\n  \n\nΠεριγραφή μεθόδων εμμέσου προσδιορισμού της φορολογητέας ύλης\n\n\nΑρχή των αναλογιών.\nΑνάλυση ρευστότητας του φορολογούμενου.\nΚαθαρή θέση του φορολογούμενου.\nΣχέση της τιμής πώλησης προς τον συνολικό όγκο κύκλου εργασιών.\nΤο ύψος των τραπεζικών καταθέσεων και των δαπανών σε μετρητά.\n\n  \n\nΠρακτικά παραδείγματα εφαρμογής εμμέσων τεχνικών \n\n\nΑρχή των αναλογιών\nΣχέση της τιμής πώλησης προς το συνολικό όγκο κύκλου εργασιών\nΑνάλυση ρευστότητας του φορολογούμενου (έλεγχος σε ελεύθερο επαγγελματία).\n\n  \n\nΑποφάσεις Διεύθυνσης Επίλυσης Διαφορών (Δ.Ε.Δ) – Νόμος 4512/2018\n\n\nΔιαδικασία προσφυγής στην Δ.Ε.Δ.\nΑποφάσεις της Δ.Ε.Δ σχετικά με την εφαρμογή των έμμεσων τεχνικών ελέγχου.\nΕφαρμογή του Ν. 4512/2018 στην πράξη και οικειοθελής αποκάλυψη αδήλωτων εισοδημάτων.\n\n  \nΓια τη συμμετοχή σας επικοινωνήστε μαζί μας στο e–mail seminaria1@oikonomotexniki.gr ή στο τηλ: 216 2021058 – 210 5200106
URL:https://mfgroupoikonomotexniki.gr/event/%cf%86%ce%bf%cf%81%ce%bf%ce%bb%ce%bf%ce%b3%ce%b9%ce%ba%ce%bf%cf%82-%ce%b5%ce%bb%ce%b5%ce%b3%cf%87%ce%bf%cf%82/
CATEGORIES:Οικονομικά,Σεμινάρια Ιδιωτικού Τομέα
ATTACH;FMTTYPE=image/jpeg:https://mfgroupoikonomotexniki.gr/wp-content/uploads/2024/12/forologikos_elegxos.jpg
END:VEVENT
BEGIN:VEVENT
DTSTART;TZID=Europe/Athens:20250123T160000
DTEND;TZID=Europe/Athens:20250124T200000
DTSTAMP:20260422T164253
CREATED:20241210T082305Z
LAST-MODIFIED:20241231T111922Z
UID:14425-1737648000-1737748800@mfgroupoikonomotexniki.gr
SUMMARY:ΕΛΕΓΧΟΝΤΑΣ ΤΗ ΔΙΑΔΙΚΑΣΙΑ ΤΗΣ ΔΙΑΠΡΑΓΜΑΤΕΥΣΗΣ
DESCRIPTION:NEO ON – LINE ΣΕΜΙΝΑΡΙΟ  \nΕλέγχοντας τη διαδικασία της Διαπραγμάτευσης \nΤο σεμινάριο βασίζεται μόνο σε ανάλυση περιπτώσεων(case study) και προσομοιώσεις διαπραγματεύσεις \n  \nΠερίοδος υλοποίησης \nΠέμπτη 23 & Παρασκευή 24 Ιανουαρίου 2025\n16:00 – 20:00 \n  \nΣκοπός  \nΣκοπός του σεμιναρίου είναι να παρουσιαστεί με βιωματικό τρόπο (case study – role-playing) η διαδικασία ελέγχου του τελευταίου σταδίου κλεισίματος της διαπραγμάτευσης με ταυτόχρονη αξιολόγηση  των δυνατοτήτων των συμμετεχόντων. \n  \nΟ εισηγητής μας \n ΣΤΑΜΑΤΗΣ ΠΙΤΤΑΣ \n Η πολυποίκιλη προϋπηρεσία του σε Διευθυντικές θέσεις σε διαφόρους τομείς επιχειρήσεων (τράπεζες\, εμπορικές – βιομηχανικές) του επιτρέπει να είναι σύμβουλος επί θεμάτων στρατηγικών διαπραγματεύσεων και αξιολόγηση προσωπικού σε μεγάλο αριθμό επιχειρήσεων στην Ελλάδα και το εξωτερικό και θεωρείται ως αδιαφιλονίκητος διαπραγματευτής!  Είναι Ανώτατο Διοικητικό Στέλεχος σε μεγάλο όμιλο επιχειρήσεων και συνεργάτης του ΣΕΒ σε θέματα ανάπτυξης και εξωστρέφειας Υπ. Διδάκτωρ του Πανεπιστημίου Λευκωσίας καθώς και αξιολογητής αναπτυξιακών προτάσεων της Ευρωπαϊκής Επιτροπής του εξωτερικού (Μεγ. Βρετανία).  Πρόεδρος ΙΜΕΓΕ ΕΕ. \n  \nΘΕΜΑΤΟΛΟΓΙΑ ΤΟΥ ΠΡΟΓΡΑΜΜΑΤΟΣ \n  \nENOTHTA A΄ \nΔιαπραγματευτική διαδικασία \n\n δυναμικός χαρακτήρας της διαπραγμάτευσης\n Ο συσχετισμός προσωπικών στόχων και ορίων κατά την διαδικασία \n Πως το ατομικό μας όραμα επηρεάζει την διαδικασία\n Η δική μου «οριοθέτηση» κατά την διαδικασία\n Άσκηση αξιολόγησης ατομικών χαρακτηριστικών \n\n  \nΕΝΟΤΗΤΑ Β΄ \nΗ εφαρμογή της διαδικασίας  \n\n Η ορθή συλλογή των δεδομένων ενδιαφέροντος \n Άσκηση αξιολόγησης ικανότητας συλλογής πληροφοριών ενδιαφέροντος\n Παρουσίαση των «απέναντι» χαρακτηριστικών – Εφαρμόζοντας τα στυλ της διαπραγματευτικής \n\nδιαδικασίας (παρουσίαση μελέτης περίπτωσης) \n\n Προβολή της εκπ.ταινίας «The Kingdom was lost» και εκτενής ανάλυση\n Τα αποδεκτά κατά την διαδικασία διαπραγμάτευσης (παρουσίαση μελέτης περίπτωσης)\n\n  \nΕΝΟΤΗΤΑ Γ΄ \nΜετά την διαπραγμάτευση… \n\n Η αυτοαξιολόγηση\n Η εφαρμογή των βημάτων\n Τα λάθη / οι παραλήψεις\n Τα εργαλεία αυτοαξιολόγησης και πως αυτά βοηθούν στην εξέλιξή προς την εξαίρετη επίδοση\n Η ανατροφοδότηση από τρίτους\n Η άσκηση εποικοδομητικής κριτικής\n Lessons learned και εφαρμογή στην επόμενη διαπραγμάτευση\n\n  \nΕΝΟΤΗΤΑ Δ’ \nΑναπαραστάσεις ρόλων \nΘα αξιολογηθούν οι παρακάτω ικανότητες των συμμετεχόντων: \n\n Κριτική αντίληψη\n Συναισθηματική νοημοσύνη\n Αξιολόγηση δεδομένων μη λεκτικής επικοινωνίας\n Συγκέντρωση – Αξιοποίηση πληροφοριών\n\n  \nStress Management κατά την διαπραγμάτευση \nΓια τη συμμετοχή σας επικοινωνήστε μαζί μας στο e–mail euromark@oikonomotexniki.gr ή στα τηλ: 2105200106
URL:https://mfgroupoikonomotexniki.gr/event/%ce%b5%ce%bb%ce%b5%ce%b3%cf%87%ce%bf%ce%bd%cf%84%ce%b1%cf%82-%cf%84%ce%b7-%ce%b4%ce%b9%ce%b1%ce%b4%ce%b9%ce%ba%ce%b1%cf%83%ce%b9%ce%b1-%cf%84%ce%b7%cf%82-%ce%b4%ce%b9%ce%b1%cf%80%cf%81%ce%b1%ce%b3/
CATEGORIES:Διοικητικά,Σεμινάρια Ιδιωτικού Τομέα
ATTACH;FMTTYPE=image/jpeg:https://mfgroupoikonomotexniki.gr/wp-content/uploads/2024/12/διαπραγμάτευση-1024x683-1.jpg
END:VEVENT
END:VCALENDAR