BEGIN:VCALENDAR
VERSION:2.0
PRODID:-//Oikonomotexniki - ECPv6.7.0//NONSGML v1.0//EN
CALSCALE:GREGORIAN
METHOD:PUBLISH
X-ORIGINAL-URL:https://mfgroupoikonomotexniki.gr
X-WR-CALDESC:Events for Oikonomotexniki
REFRESH-INTERVAL;VALUE=DURATION:PT1H
X-Robots-Tag:noindex
X-PUBLISHED-TTL:PT1H
BEGIN:VTIMEZONE
TZID:UTC
BEGIN:STANDARD
TZOFFSETFROM:+0000
TZOFFSETTO:+0000
TZNAME:UTC
DTSTART:20250101T000000
END:STANDARD
TZID:Europe/Athens
BEGIN:DAYLIGHT
TZOFFSETFROM:+0200
TZOFFSETTO:+0300
TZNAME:EEST
DTSTART:20250330T010000
END:DAYLIGHT
BEGIN:STANDARD
TZOFFSETFROM:+0300
TZOFFSETTO:+0200
TZNAME:EET
DTSTART:20251026T010000
END:STANDARD
END:VTIMEZONE
BEGIN:VEVENT
DTSTART;TZID=UTC:20250130T160000
DTEND;TZID=UTC:20250130T200000
DTSTAMP:20260422T153143
CREATED:20241210T083023Z
LAST-MODIFIED:20241220T080036Z
UID:14190-1738252800-1738267200@mfgroupoikonomotexniki.gr
SUMMARY:ΕΣΗΔΗΣ ΠΡΟΜΗΘΕΙΩΝ & ΥΠΗΡΕΣΙΩΝ ΓΙΑ ΟΙΚΟΝΟΜΙΚΟΥΣ ΦΟΡΕΙΣ
DESCRIPTION:ΕΠΙΚΑΙΡΟΠΟΙΗΜΕΝΟ ΣΕΜΙΝΑΡΙΟ ΕΣΗΔΗΣ ΓΙΑ ΟΙΚΟΝΟΜΙΚΟΥΣ ΦΟΡΕΙΣ \nΗΛΕΚΤΡΟΝΙΚΕΣ ΔΗΜΟΣΙΕΣ ΣΥΜΒΑΣΕΙΣ\nΟΛΕΣ ΟΙ ΝΕΕΣ ΠΑΡΑΜΕΤΡΟΠΟΠΟΙΗΣΕΙΣ ΚΑΙ ΛΕΙΤΟΥΡΓΙΚΟΤΗTΕΣ TOY ΕΣΗΔΗΣ ΠΡΟΜΗΘΕΙΩΝ & ΥΠΗΡΕΣΙΩΝ ΥΨηΔ 11/4/2023\nΔΗΜΙΟΥΡΓΙΑ ΗΛΕΚΤΡΟΝΙΚΗΣ ΔΙΑΔΙΚΑΣΙΑΣ ΔΙΑΓΩΝΙΣΜΩΝ \nΠέμπτη 30 Ιανουαρίου 2025\n16:00 – 20:00 \nΣΚΟΠΟΣ\n►Η ενημέρωση των στελεχών των Οικονομικών Φορέων\, με πρακτικά on-line παραδείγματα για τη λειτουργία του\nΕΣΗΔΗΣ σε θέματα Δημοσίων Συμβάσεων Προμηθειών\, Υπηρεσιών. \nΠΟΥ ΑΠΕΥΘΥΝΕΤΑΙ\nΤο σεμινάριο απευθύνεται σε όλα τα στελέχη επιχειρήσεων ιδιωτικού τομέα που συμμετέχουν ως υποψήφιοι\nοικονομικοί φορείς σε ηλεκτρονικούς διαγωνισμούς του δημοσίου αλλά και του ευρύτερου δημόσιου τομέα. \nΟ ΕΙΣΗΓΗΤΗΣ ΜΑΣ\nΣτέλεχος αρμόδιας υπηρεσίας με πολυετή εμπειρία σε θέματα διαχείρισης & λειτουργίας της ηλεκτρονικής πλατφόρμας του ΚΗΜΔΗΣ και του ΕΣΗΔΗΣ. \nΣΥΝΟΠΤΙΚΗ ΘΕΜΑΤΟΛΟΓΙΑ\nΣτο σεμινάριο θα αναλυθούν διεξοδικά τα εξής θέματα: \n1. Έναρξη του προγράμματος-Γενική παρουσίαση\nτης ηλεκτρονικής διαδικασίας\n2. Δημιουργία Προσχεδίου Διαγωνισμού\n3. Υποβολή Προσφοράς\n4. Χρήση της λειτουργικότητας ‘ΕΠΙΚΟΙΝΩΝΙΑ’ \n5. Προφίλ Προμηθευτή\n6. Promitheus\, e-TEYD-ESPD-ΕΕΕΣ\n7. Δικαιολογητικά Προσωρινού Αναδόχου \nΓια τη συμμετοχή σας επικοινωνήστε μαζί μας στο e-mail seminar2@oikonomotexniki.gr ή στο τηλ: 210 5200106 και 210 8828972.
URL:https://mfgroupoikonomotexniki.gr/event/%ce%b5%cf%83%ce%b7%ce%b4%ce%b7%cf%82-%cf%80%cf%81%ce%bf%ce%bc%ce%b7%ce%b8%ce%b5%ce%b9%cf%89%ce%bd-%cf%85%cf%80%ce%b7%cf%81%ce%b5%cf%83%ce%b9%cf%89%ce%bd-%ce%b3%ce%b9%ce%b1-%ce%bf%ce%b9%ce%ba%ce%bf/
CATEGORIES:Οικονομική Υπηρεσία,Σεμινάρια Δημοσίου Τομέα,Σεμινάρια Ιδιωτικού Τομέα,Τμήμα Προμηθειών
ATTACH;FMTTYPE=image/jpeg:https://mfgroupoikonomotexniki.gr/wp-content/uploads/2024/04/ΕΣΗΔΗΣ.jpg
END:VEVENT
BEGIN:VEVENT
DTSTART;TZID=Europe/Athens:20250130T160000
DTEND;TZID=Europe/Athens:20250130T210000
DTSTAMP:20260422T153143
CREATED:20241210T083057Z
LAST-MODIFIED:20241231T081848Z
UID:14395-1738252800-1738270800@mfgroupoikonomotexniki.gr
SUMMARY:ΕΞΑΓΩΓΙΚΟ MARKETING
DESCRIPTION:ΝΕΟ ΕΙΔΙΚΟ ONLINE ΣΕΜΙΝΑΡΙΟ \nΕΞΑΓΩΓΙΚΟ MARKETING \nΠΡΟΟΠΤΙΚΕΣ – ΣΤΡΑΤΗΓΙΚΗ ΣΤΟΧΕΥΣΗΣ\nΣΧΕΔΙΑΣΜΟΣ ΠΡΟΩΘΗΣΗΣ ΠΡΟΪΟΝΤΩΝ \n  \nΠέμπτη 30 Ιανουαρίου 2025 \n16:00-21.00 \n  \nΠΟΥ ΑΠΕΥΘΥΝΕΤΑΙ\nΤο σεμινάριο απευθύνεται σε στελέχη πωλήσεων και Μάρκετινγκ που ασχολούνται με την\nπαρακολούθηση των εξαγωγών καθώς και σε στελέχη μικρομεσαίων επιχειρήσεων που\nενδιαφέρονται να δραστηριοποιηθούν στον εξαγωγικό εμπόριο. \n  \nΟ ΕΙΣΗΓΗΤΗΣ ΜΑΣ\nΠρόεδρος του Ι.Μ.Ε.Γ.Ε.Ε.\, τ. στέλεχος του ΚΕ.Δ.Δ.Υ. Ευβοίας\, μέλος της επιτροπής\nεπαγγελματικής εκπαίδευσης του Υπουργείου Παιδείας (ΜΝΑΕ)\, συνεργάτης του ΣΕΒ σε\nεκπαιδευτικά προγράμματα\, πιστοποιημένος εκπαιδευτής σε πωλήσεις και εξυπηρέτηση\nπελατών βάσει των προτύπων Professionals Selling Skills και Quality Service Skills της Learning\nInternational από το 2002. Οι μεταπτυχιακές του σπουδές αφορούν ειδικές εκπαιδευτικές\nανάγκες και διαθέτει μία εμπειρία εκπαίδευσης από το 1997\, έχοντας εκπαιδεύσει πάνω από\n3.000 στελέχη επιχειρήσεων και οργανισμών σε Ελλάδα και εξωτερικό. Παράλληλα είναι\nΔιευθυντής Marketing μεγάλου Ομίλου και σύμβουλος επιχειρήσεων και οργανισμών. \n  \nΣΚΟΠΟΣ\nΣκοπός του σεμιναρίου είναι:\n να αναλυθούν οι προοπτικές των εξαγωγών στο διεθνές περιβάλλον σε σχέση με τα\nμίγμα του Μάρκετινγκ.\n να καθοριστούν οι παράγοντες που πρέπει να ληφθούν υπόψη για εξαγωγές\nπροϊόντων και\n να αναλυθούν οι στρατηγικές στόχευσης της αγοράς και ο σχεδιασμός προώθησης και\nκαναλιών διανομής για την ανάπτυξη των προϊόντων. \n  \nΣΥΝΟΠΤΙΚΗ ΘΕΜΑΤΟΛΟΓΙΑ \n Έρευνα αγοράς ανταγωνιστικού περιβάλλοντος και καταναλωτών ξένης χώρας.\n Άμεσες και έμμεσες εξαγωγές\n Πλεονεκτήματα και μειονεκτήματα εξαγωγικών δραστηριοτήτων\n Εξαγωγές από μικρομεσαίες επιχειρήσεις. Παράγοντες επιτυχίας και αποτυχίας. \n  \nΟι δηλώσεις συμμετοχής θα πρέπει να υποβληθούν το ταχύτερο\, διότι ο αριθμός συμμετεχόντων είναι\nπεριορισμένος\, στα τηλέφωνα: 211-0131884 &amp; 210-5200106 ή στην ηλεκτρονική διεύθυνση\neuromark@oikonomotexniki.gr
URL:https://mfgroupoikonomotexniki.gr/event/%ce%b5%ce%be%ce%b1%ce%b3%cf%89%ce%b3%ce%b9%ce%ba%ce%bf-marketing/
CATEGORIES:Οικονομικά,Σεμινάρια Ιδιωτικού Τομέα
ATTACH;FMTTYPE=image/jpeg:https://mfgroupoikonomotexniki.gr/wp-content/uploads/2024/12/ΕΞΑΓΩΓΙΚΟ-MARKETING.jpg
END:VEVENT
END:VCALENDAR